BEGIN:VCALENDAR
VERSION:2.0
PRODID:-//ATA-DC - ECPv6.15.20//NONSGML v1.0//EN
CALSCALE:GREGORIAN
METHOD:PUBLISH
X-WR-CALNAME:ATA-DC
X-ORIGINAL-URL:https://atadc.org
X-WR-CALDESC:Events for ATA-DC
REFRESH-INTERVAL;VALUE=DURATION:PT1H
X-Robots-Tag:noindex
X-PUBLISHED-TTL:PT1H
BEGIN:VTIMEZONE
TZID:America/New_York
BEGIN:DAYLIGHT
TZOFFSETFROM:-0500
TZOFFSETTO:-0400
TZNAME:EDT
DTSTART:20250309T070000
END:DAYLIGHT
BEGIN:STANDARD
TZOFFSETFROM:-0400
TZOFFSETTO:-0500
TZNAME:EST
DTSTART:20251102T060000
END:STANDARD
BEGIN:DAYLIGHT
TZOFFSETFROM:-0500
TZOFFSETTO:-0400
TZNAME:EDT
DTSTART:20260308T070000
END:DAYLIGHT
BEGIN:STANDARD
TZOFFSETFROM:-0400
TZOFFSETTO:-0500
TZNAME:EST
DTSTART:20261101T060000
END:STANDARD
BEGIN:DAYLIGHT
TZOFFSETFROM:-0500
TZOFFSETTO:-0400
TZNAME:EDT
DTSTART:20270314T070000
END:DAYLIGHT
BEGIN:STANDARD
TZOFFSETFROM:-0400
TZOFFSETTO:-0500
TZNAME:EST
DTSTART:20271107T060000
END:STANDARD
END:VTIMEZONE
BEGIN:VEVENT
DTSTART;TZID=America/New_York:20260425T160000
DTEND;TZID=America/New_York:20260425T190000
DTSTAMP:20260422T185935
CREATED:20260421T232558Z
LAST-MODIFIED:20260421T232558Z
UID:17631-1777132800-1777143600@atadc.org
SUMMARY:Yadigar (Memento): Anatolian Handcraft & Textile Exhibition
DESCRIPTION:Yadigar in DC: A Journey Through Turkish Family Heirlooms\nPresented by the American Turkish Association of Washington DC & AKMStep into a world where history lives through art\, memory\, and tradition. We invite you to a special exhibition celebrating Turkish family heirlooms—timeless pieces that carry generations of identity\, craftsmanship\, and cultural meaning.\nEach object tells a story\, offering a rare glimpse into the beauty and depth of traditions passed down through families.From intricately embroidered textiles to elegant garments and decorative works\, this exhibition showcases the richness of Turkish heritage and the personal narratives woven into every detail.\nThese heirlooms are more than artifacts; they are living expressions of culture that continue to inspire and connect communities across generations.\nEvent Schedule• 4:00 PM: Doors open & Welcome• 5:00 PM: Following the welcome message to the guests\, information regarding the exhibition will be provided.\nJoin us for an intimate and enriching cultural experience as we come together to honor\, preserve\, and celebrate these treasured pieces of history.\n ATA-DC House7115 Leesburg Pike Suite 302Falls Church\, VA 22043 April 25 and April 26\, 2026 4:00 PM to 7:00 PM Free Admission\nAll are welcome. Come discover\, preserve\, and celebrate Turkish heritage with us
URL:https://atadc.org/event/yadigar-memento-anatolian-handcraft-textile-exhibition/
LOCATION:ATA-DC House\, 7115 Leesburg Pike Suite 302\, Falls Church\, VA\, 22043\, United States
ATTACH;FMTTYPE=image/jpeg:https://atadc.org/wp-content/uploads/2026/04/yadigar.jpg
END:VEVENT
BEGIN:VEVENT
DTSTART;TZID=America/New_York:20260426T110000
DTEND;TZID=America/New_York:20260426T140000
DTSTAMP:20260422T185935
CREATED:20260402T025935Z
LAST-MODIFIED:20260421T232122Z
UID:17621-1777201200-1777212000@atadc.org
SUMMARY:April 23 National Sovereignty and Children's Day Celebration
DESCRIPTION:ATA-DC’nin 23 Nisan Ulusal Egemenlik ve Çocuk Bayramı Kutlamasına Davetlisiniz!\nTarih: 26 Nisan 2026\, PazarSaat: 11:00 – 14:00Yer: McLean High School\nTüm aileyi; gösteriler\, eğlenceli aktiviteler\, lezzetli yiyecekler ve çocukların neşesiyle dolu bu özel güne davet ediyoruz!\nGiriş: Yetişkinler için $10 | Çocuklar ÜCRETSİZ\n Kırmızı & beyaz giyin!\nGelin\, Gazi Mustafa Kemal Atatürk’ün çocuklara armağan ettiği bu anlamlı bayramı birlikte kutlayalım.\nJoin us for ATA-DC’s April 23rd National Sovereignty and Children’s Day Celebration!\nDate: Sunday\, April 27\, 2025Time: 11:00 AM – 2:00 PMLocation: McLean High School\nBring the whole family for a joyful day filled with performances\, fun activities\, delicious food\, and a celebration of children!\nEntry: $10 per adult | Kids enter FREE\n Wear red & white!\nLet’s come together to honor this special holiday\, gifted to children by Mustafa Kemal Atatürk—celebrating the power of children and the spirit of democracy\, community\, and togetherness!
URL:https://atadc.org/event/april-23-national-sovereignty-and-childrens-day-celebration/
LOCATION:Mclean High School\, 1633 Davidson Rd\, McLean\, VA\, 22101
ATTACH;FMTTYPE=image/jpeg:https://atadc.org/wp-content/uploads/2026/04/23nisan.jpg
END:VEVENT
END:VCALENDAR